BEGIN:VCALENDAR
VERSION:2.0
PRODID:-//FightXLife - ECPv5.12.4//NONSGML v1.0//EN
CALSCALE:GREGORIAN
METHOD:PUBLISH
X-WR-CALNAME:FightXLife
X-ORIGINAL-URL:https://fightxlife.pxl-studio.com
X-WR-CALDESC:Events for FightXLife
REFRESH-INTERVAL;VALUE=DURATION:PT1H
X-Robots-Tag:noindex
X-PUBLISHED-TTL:PT1H
BEGIN:VTIMEZONE
TZID:Europe/Zurich
BEGIN:DAYLIGHT
TZOFFSETFROM:+0100
TZOFFSETTO:+0200
TZNAME:CEST
DTSTART:20220327T010000
END:DAYLIGHT
BEGIN:STANDARD
TZOFFSETFROM:+0200
TZOFFSETTO:+0100
TZNAME:CET
DTSTART:20221030T010000
END:STANDARD
END:VTIMEZONE
BEGIN:VEVENT
DTSTART;TZID=Europe/Zurich:20220112T083000
DTEND;TZID=Europe/Zurich:20220118T170000
DTSTAMP:20260423T071310
CREATED:20220108T135558Z
LAST-MODIFIED:20220118T082539Z
UID:4184-1641976200-1642525200@fightxlife.pxl-studio.com
SUMMARY:Judo in water
DESCRIPTION:j’ai tabasser les gens dans la wataaaaa \n 
URL:https://fightxlife.pxl-studio.com/event/judo-in-water/
END:VEVENT
END:VCALENDAR